Workbook

Sheet OCT-DIC 2021
A1: Promotora de turismo de Nariño Ltda
A2: NIT 891.200.373 - 3
A3: EJECUCION DE GASTOS
A4: Periodo: Octubre a Diciembre de 2021
A5: Fecha de Impresion: 2022-4-20
D6: Modificaciones | K6: Disponibilidades | M6: Compromisos | O6: Obligaciones
A7: Codigo | B7: Nombre | C7: Apropiacion Inicial | D7: Adiciones | E7: Reducciones | F7: Creditos | G7: Contra Creditos | H7: Apropiacion Def | I7: Aplazam | J7: Desaplazam | K7: Totales | L7: Sin Afectacion | M7: Totales | N7: Sin Afectacion | O7: Totales | P7: Sin Afectacion | Q7: Pagos | R7: Saldo Disponible | S7: Tipo
A8: 2 | B8: Gastos | C8: 3880280644 | D8: 5.6409232e+09 | E8: 0 | F8: 1.0305992e+09 | G8: 1.0305992e+09 | H8: 9.5212038e+09 | I8: 0 | J8: 0 | K8: 5.3339827e+09 | L8: -5.4312225e+09 | M8: 1.0765205e+10 | N8: 5.0678699e+09 | O8: 5.6973353e+09 | P8: 2.3873974e+09 | Q8: 3.3099379e+09 | R8: 4.1872211e+09 | S8: Titulo
A9: 2.1 | B9: Funcionamiento | C9: 3880280644 | D9: 5.6409232e+09 | E9: 0 | F9: 1.0305992e+09 | G9: 1.0305992e+09 | H9: 9.5212038e+09 | I9: 0 | J9: 0 | K9: 5.3339827e+09 | L9: -5.4312225e+09 | M9: 1.0765205e+10 | N9: 5.0678699e+09 | O9: 5.6973353e+09 | P9: 2.3873974e+09 | Q9: 3.3099379e+09 | R9: 4.1872211e+09 | S9: Titulo
A10: 2.1.1 | B10: Gastos de personal | C10: 1733419710 | D10: 0 | E10: 0 | F10: 98447257 | G10: 0 | H10: 1.831867e+09 | I10: 0 | J10: 0 | K10: 415407863 | L10: -600000 | M10: 416007863 | N10: -81364474 | O10: 497372337 | P10: 32058335 | Q10: 465314002 | R10: 1.4164591e+09 | S10: Titulo
A11: 2.1.1.01 | B11: Planta de personal permanente | C11: 1733419710 | D11: 0 | E11: 0 | F11: 98447257 | G11: 0 | H11: 1.831867e+09 | I11: 0 | J11: 0 | K11: 415407863 | L11: -600000 | M11: 416007863 | N11: -81364474 | O11: 497372337 | P11: 32058335 | Q11: 465314002 | R11: 1.4164591e+09 | S11: Titulo
A12: 2.1.1.01.01 | B12: Factores constitutivos de salario | C12: 923737936 | D12: 0 | E12: 0 | F12: 8147256.7 | G12: 0 | H12: 9.3188519e+08 | I12: 0 | J12: 0 | K12: 231615327 | L12: 0 | M12: 231615327 | N12: -2239916 | O12: 233855243 | P12: -40496509 | Q12: 274351752 | R12: 7.0026987e+08 | S12: Titulo
A13: 2.1.1.01.01.001 | B13: Factores salariales comunes | C13: 923737936 | D13: 0 | E13: 0 | F13: 8147256.7 | G13: 0 | H13: 9.3188519e+08 | I13: 0 | J13: 0 | K13: 231615327 | L13: 0 | M13: 231615327 | N13: -2239916 | O13: 233855243 | P13: -40496509 | Q13: 274351752 | R13: 7.0026987e+08 | S13: Titulo
A14: 2.1.1.01.01.001.01 | B14: Sueldo básico | C14: 725666112 | D14: 0 | E14: 0 | F14: 0 | G14: 0 | H14: 725666112 | I14: 0 | J14: 0 | K14: 1.4898685e+08 | L14: 0 | M14: 1.4898685e+08 | N14: 0 | O14: 1.4898685e+08 | P14: -51684000 | Q14: 2.0067085e+08 | R14: 5.7667926e+08 | S14: Titulo
A15: 2.1.1.01.01.001.01.001 | B15: SUELDOS | C15: 725666112 | D15: 0 | E15: 0 | F15: 0 | G15: 0 | H15: 725666112 | I15: 0 | J15: 0 | K15: 1.4898685e+08 | L15: 0 | M15: 1.4898685e+08 | N15: 0 | O15: 1.4898685e+08 | P15: -51684000 | Q15: 2.0067085e+08 | R15: 5.7667926e+08 | S15: Titulo
A16: 2.1.1.01.01.001.01.001.01 | B16: Rentas propias (administración central) o recursos propios (entidades descentralizadas) | C16: 725666112 | D16: 0 | E16: 0 | F16: 0 | G16: 0 | H16: 725666112 | I16: 0 | J16: 0 | K16: 1.4898685e+08 | L16: 0 | M16: 1.4898685e+08 | N16: 0 | O16: 1.4898685e+08 | P16: -51684000 | Q16: 2.0067085e+08 | R16: 5.7667926e+08 | S16: Titulo
A17: 2.1.1.01.01.001.01.001.01.3 | B17: GENERAL | C17: 725666112 | D17: 0 | E17: 0 | F17: 0 | G17: 0 | H17: 725666112 | I17: 0 | J17: 0 | K17: 1.4898685e+08 | L17: 0 | M17: 1.4898685e+08 | N17: 0 | O17: 1.4898685e+08 | P17: -51684000 | Q17: 2.0067085e+08 | R17: 5.7667926e+08 | S17: Detalle
A18: 2.1.1.01.01.001.02 | B18: Horas extras, dominicales, festivos y recargos | C18: 28000000 | D18: 0 | E18: 0 | F18: 8147256.7 | G18: 0 | H18: 36147257 | I18: 0 | J18: 0 | K18: 11705487 | L18: 0 | M18: 11705487 | N18: 0 | O18: 11705487 | P18: -2650184 | Q18: 14355671 | R18: 24441770 | S18: Titulo
A19: 2.1.1.01.01.001.02.001 | B19: HORAS EXTRAS | C19: 15000000 | D19: 0 | E19: 0 | F19: 3813923.3 | G19: 0 | H19: 18813923 | I19: 0 | J19: 0 | K19: 7372153.3 | L19: 0 | M19: 7372153.3 | N19: 0 | O19: 7372153.3 | P19: -2142988 | Q19: 9515141.3 | R19: 11441770 | S19: Titulo
... A402: 2.1.8.04.03.001.01.3 | B402: GENERAL | C402: 95000000 | D402: 0 | E402: 0 | F402: 0 | G402: 0 | H402: 95000000 | I402: 0 | J402: 0 | K402: 0 | L402: 0 | M402: 0 | N402: 0 | O402: 0 | P402: 0 | Q402: 0 | R402: 95000000 | S402: Detalle

Sheet ENE-MAR 2022
A1: Promotora de turismo de Nariño Ltda
A2: NIT 891.200.373 - 3
A3: EJECUCION DE GASTOS
A4: Periodo: Enero a Marzo de 2022
A5: Fecha de Impresion: 2022-4-20
D6: Modificaciones | K6: Disponibilidades | M6: Compromisos | O6: Obligaciones
A7: Codigo | B7: Nombre | C7: Apropiacion Inicial | D7: Adiciones | E7: Reducciones | F7: Creditos | G7: Contra Creditos | H7: Apropiacion Def | I7: Aplazam | J7: Desaplazam | K7: Totales | L7: Sin Afectacion | M7: Totales | N7: Sin Afectacion | O7: Totales | P7: Sin Afectacion | Q7: Pagos | R7: Saldo Disponible | S7: Tipo
A8: 2 | B8: Gastos | C8: 1.1052077e+10 | D8: 0 | E8: 0 | F8: 20000000 | G8: 20000000 | H8: 1.1052077e+10 | I8: 0 | J8: 0 | K8: 6.3505823e+09 | L8: 3.4774846e+09 | M8: 2.8730977e+09 | N8: 6.5547002e+08 | O8: 2.2176277e+09 | P8: 8.9408308e+08 | Q8: 1.3235446e+09 | R8: 4.7014946e+09 | S8: Titulo
A9: 2.1 | B9: Funcionamiento | C9: 2.4204335e+09 | D9: 0 | E9: 0 | F9: 20000000 | G9: 20000000 | H9: 2.4204335e+09 | I9: 0 | J9: 0 | K9: 4.7628249e+08 | L9: 159724928 | M9: 3.1655757e+08 | N9: 63281858 | O9: 2.5327571e+08 | P9: 86019406 | Q9: 1.672563e+08 | R9: 1.944151e+09 | S9: Titulo
A10: 2.1.1 | B10: Gastos de personal | C10: 6.0322238e+08 | D10: 0 | E10: 0 | F10: 0 | G10: 0 | H10: 6.0322238e+08 | I10: 0 | J10: 0 | K10: 116571939 | L10: 0 | M10: 116571939 | N10: 0 | O10: 116571939 | P10: 7427553 | Q10: 109144386 | R10: 4.8665044e+08 | S10: Titulo
A11: 2.1.1.01 | B11: Planta de personal permanente | C11: 6.0322238e+08 | D11: 0 | E11: 0 | F11: 0 | G11: 0 | H11: 6.0322238e+08 | I11: 0 | J11: 0 | K11: 116571939 | L11: 0 | M11: 116571939 | N11: 0 | O11: 116571939 | P11: 7427553 | Q11: 109144386 | R11: 4.8665044e+08 | S11: Titulo
A12: 2.1.1.01.01 | B12: Factores constitutivos de salario | C12: 4.8244627e+08 | D12: 0 | E12: 0 | F12: 0 | G12: 0 | H12: 4.8244627e+08 | I12: 0 | J12: 0 | K12: 101622676 | L12: 0 | M12: 101622676 | N12: 0 | O12: 101622676 | P12: 42382 | Q12: 101580294 | R12: 3.808236e+08 | S12: Titulo
A13: 2.1.1.01.01.001 | B13: Factores salariales comunes | C13: 4.8244627e+08 | D13: 0 | E13: 0 | F13: 0 | G13: 0 | H13: 4.8244627e+08 | I13: 0 | J13: 0 | K13: 101622676 | L13: 0 | M13: 101622676 | N13: 0 | O13: 101622676 | P13: 42382 | Q13: 101580294 | R13: 3.808236e+08 | S13: Titulo
A14: 2.1.1.01.01.001.01 | B14: Sueldo básico | C14: 3.9174831e+08 | D14: 0 | E14: 0 | F14: 0 | G14: 0 | H14: 3.9174831e+08 | I14: 0 | J14: 0 | K14: 95810459 | L14: 0 | M14: 95810459 | N14: 0 | O14: 95810459 | P14: 0 | Q14: 95810459 | R14: 2.9593785e+08 | S14: Detalle
A15: 2.1.1.01.01.001.02 | B15: Horas extras, dominicales, festivos y recargos | C15: 12005465 | D15: 0 | E15: 0 | F15: 0 | G15: 0 | H15: 12005465 | I15: 0 | J15: 0 | K15: 3519331 | L15: 0 | M15: 3519331 | N15: 0 | O15: 3519331 | P15: 0 | Q15: 3519331 | R15: 8486133.8 | S15: Detalle
A16: 2.1.1.01.01.001.05 | B16: Auxilio de transporte | C16: 7030320 | D16: 0 | E16: 0 | F16: 0 | G16: 0 | H16: 7030320 | I16: 0 | J16: 0 | K16: 2105190 | L16: 0 | M16: 2105190 | N16: 0 | O16: 2105190 | P16: 0 | Q16: 2105190 | R16: 4925130 | S16: Detalle
A17: 2.1.1.01.01.001.06 | B17: Prima de servicio | C17: 20277722 | D17: 0 | E17: 0 | F17: 0 | G17: 0 | H17: 20277722 | I17: 0 | J17: 0 | K17: 93847 | L17: 0 | M17: 93847 | N17: 0 | O17: 93847 | P17: 21190 | Q17: 72657 | R17: 20183875 | S17: Detalle
A18: 2.1.1.01.01.001.08 | B18: Prestaciones sociales | C18: 51384454 | D18: 0 | E18: 0 | F18: 0 | G18: 0 | H18: 51384454 | I18: 0 | J18: 0 | K18: 93849 | L18: 0 | M18: 93849 | N18: 0 | O18: 93849 | P18: 21192 | Q18: 72657 | R18: 51290604 | S18: Titulo
A19: 2.1.1.01.01.001.08.01 | B19: Prima de navidad | C19: 33258159 | D19: 0 | E19: 0 | F19: 0 | G19: 0 | H19: 33258159 | I19: 0 | J19: 0 | K19: 0 | L19: 0 | M19: 0 | N19: 0 | O19: 0 | P19: 0 | Q19: 0 | R19: 33258159 | S19: Detalle
... A187: 2.4.5.02.08.021 | B187: OTROS GASTOS POR ADQUISICIÒN DE SERVICIOS H SINDAMANOY - VIGENCIA 2021 | C187: 1970000 | D187: 0 | E187: 0 | F187: 0 | G187: 0 | H187: 1970000 | I187: 0 | J187: 0 | K187: 1970000 | L187: 0 | M187: 1970000 | N187: 1436823.5 | O187: 533176.48 | P187: 533176.48 | Q187: 0 | R187: 0 | S187: Detalle

Sheet ENERO - MARZO 
A1: MORASURCO
A2: ENERGIA OCTUBRE A DICIEMBRE 2021
A3: Cuenta | B3: Fuente | C3: Fecha | D3: Comprobante | E3: Numero | F3: Tercero | G3: Identificacion | H3: Detalle | I3: Doc Afectado | J3: Numero | K3: Credito | L3: Contra Credito
A4: 2.1.2.02.02.006.007.01.1 | C4: 44517 | D4: Obligacion presupuestal | E4: 2021101466 | F4: CENTRALES ELECTRICAS DE NARINO S.A. E.S.P | G4: 891200200 | H4: REGISTRO FAC 34670885, POR CONCEPTO DE SERVICIO DE ENERGIA PERIODO 21 DE SEPTIEMBRE DE 2021 - 21 DE OCTUBRE DE 2021, CORRESPONDE AL MES DE OCTUBRE DE 2021 CODIGO CLIENTE N0. 215954, REF DE PAGO NO.83489926 - OPERACION COMERCIAL HOTEL MORASURCO - TURNARINO LTDA. | I4: Compromiso presupuestal | J4: 2021001610 | K4: 1,528,480.00 | L4: 0.00
A5: 2.1.2.02.02.006.007.01.1 | C5: 44517 | D5: Obligacion presupuestal | E5: 2021101466 | F5: CENTRALES ELECTRICAS DE NARINO S.A. E.S.P | G5: 891200200 | H5: REGISTRO FAC 34670885, POR CONCEPTO DE SERVICIO DE ENERGIA PERIODO 21 DE SEPTIEMBRE DE 2021 - 21 DE OCTUBRE DE 2021, CORRESPONDE AL MES DE OCTUBRE DE 2021 CODIGO CLIENTE N0. 215954, REF DE PAGO NO.83489926 - OPERACION COMERCIAL HOTEL MORASURCO - TURNARINO LTDA. | I5: Compromiso presupuestal | J5: 2021000016 | K5: 1,583,840.00 | L5: 0.00
A6: 2.1.2.02.02.006.007.01.1 | C6: 44530 | D6: Obligacion presupuestal | E6: 2021101655 | F6: CENTRALES ELECTRICAS DE NARINO S.A. E.S.P | G6: 891200200 | H6: REGISTRO DE FACTURA NO. 35457397 CODIGO INTERNO CE-215954 PERIODO DEL 21 DEOCTUBRE A 22 DE NOVIEMBRE DE 2021, REFERENCIA DE PAGO NO.84333716 PARA OPERACIÓN CCIAL HOTEL MORASURCO DE PROPIEDAD DE TURNARIÑO LTDA, | I6: Compromiso presupuestal | J6: 2021001610 | K6: 3,544,100.00 | L6: 0.00
A7: 2.1.2.02.02.006.007.01.1 | C7: 44561 | D7: Obligacion presupuestal | E7: 2021101997 | F7: CENTRALES ELECTRICAS DE NARINO S.A. E.S.P | G7: 891200200 | H7: REGISTRO DE FACTURA NO. 36054152 CODIGO INTERNO CE-215954 PERIODO DEL 22 DE NOVIEMBRE A 21 DE DICIEMBRE DE 2021, REFERENCIA DE PAGO NO.84971974 PARA OPERACIÓN CCIAL HOTEL MORASURCO DE PROPIEDAD DE TURNARIÑO LTDA, | I7: Compromiso presupuestal | J7: 2021001610 | K7: 3,640,880.00 | L7: 0.00
J8: SUMAS | K8: 10297300 | L8: 0.00
A9: ENERGIA ENERO A MARZO 2022
A10: Cuenta | B10: Fuente | C10: Fecha | D10: Comprobante | E10: Numero | F10: Tercero | G10: Identificacion | H10: Detalle | I10: Doc Afectado | J10: Numero | K10: Credito | L10: Contra Credito
A11: 2.4.5.02.06.007 | C11: 44592 | D11: Obligacion presupuestal | E11: 2022100025 | F11: CENTRALES ELECTRICAS DE NARINO S.A. E.S.P | G11: 891200200 | H11: REGISTRO DE FACTURA NO. 36841724 CODIGO INTERNO CE-215954 PERIODO DEL 21 DE DICIEMBRE A 22 DE ENERO DE 2022, REFERENCIA DE PAGO NO.85702377 PARA OPERACIÓN CCIAL HOTEL MORASURCO DE PROPIEDAD DE TURNARIÑO LTDA, | I11: Compromiso presupuestal | J11: 2022000012 | K11: 3,359,020.00 | L11: 0.00
A12: 2.4.5.02.06.007 | C12: 44620 | D12: Obligacion presupuestal | E12: 2022100105 | F12: CENTRALES ELECTRICAS DE NARINO S.A. E.S.P | G12: 891200200 | H12: REGISTRO DE FACTURA NO.3741377 CODIGO INTERNO CE-215954 PERIODO DEL 22 DE ENERO A 19 DE FEBRERO DE 2022, REFERENCIA DE PAGO NO.86279352 PARA OPERACIÓN CCIAL HOTEL MORASURCO DE PROPIEDAD DE TURNARIÑO LTDA, | I12: Compromiso presupuestal | J12: 2022000012 | K12: 2,770,820.00 | L12: 0.00
A13: 2.4.5.02.06.007 | C13: 44651 | D13: Obligacion presupuestal | E13: 2022100314 | F13: CENTRALES ELECTRICAS DE NARINO S.A. E.S.P | G13: 891200200 | H13: SERVICIO DE ENERGIA ELECTRICA, HOTEL MORASURCO Y HOTEL SINDAMANOY PARA OPERACION CCIAL TURNARIÑO LTDA VIGENCIA 2022 | I13: Compromiso presupuestal | J13: 2022000012 | K13: 3,467,660.00 | L13: 0.00
J14: SUMAS | K14: 9597500 | L14: 0.00
A15: SINDAMANOY
A16: ENERGIA OCTUBRE A DICIEMBRE 2021
A17: Cuenta | B17: Fuente | C17: Fecha | D17: Comprobante | E17: Numero | F17: Tercero | G17: Identificacion | H17: Detalle | I17: Doc Afectado | J17: Numero | K17: Credito | L17: Contra Credito
A18: 2.1.2.02.02.006.008.01.2 | C18: 44517 | D18: Obligacion presupuestal | E18: 2021590227 | F18: CENTRALES ELECTRICAS DE NARINO S.A. E.S.P | G18: 891200200 | H18: REGISTRO DE FACTURA NO. 34151943 CODIGO INTERNO CE-1071403 PERIODO DEL 07 DE OCTUBRE A 05 DE NOVIEMBRE DE 2021, REFERENCIA DE PAGO No.83592590, OPERACIÓN CCIAL HOTEL SINDAMANOY - TURNARIÑO LTDA, | I18: Compromiso presupuestal | J18: 2021001610 | K18: 824,870.00 | L18: 0.00
A19: 2.1.2.02.02.006.008.01.2 | C19: 44517 | D19: Obligacion presupuestal | E19: 2021590227 | F19: CENTRALES ELECTRICAS DE NARINO S.A. E.S.P | G19: 891200200 | H19: REGISTRO DE FACTURA NO. 34151943 CODIGO INTERNO CE-1071403 PERIODO DEL 07 DE OCTUBRE A 05 DE NOVIEMBRE DE 2021, REFERENCIA DE PAGO No.83592590, OPERACIÓN CCIAL HOTEL SINDAMANOY - TURNARIÑO LTDA, | I19: Compromiso presupuestal | J19: 2021000016 | K19: 1,908,220.00 | L19: 0.00
A20: 2.1.2.02.02.006.008.01.2 | C20: 44537 | D20: Obligacion presupuestal | E20: 2021590240 | F20: CENTRALES ELECTRICAS DE NARINO S.A. E.S.P | G20: 891200200 | H20: REGISTRO DE FACTURA NO. 35108956 CODIGO INTERNO CE-1071403 PERIODO DEL 05 DE NOVIEMBRE A 05 DE DICIEMBRE DE 2021, REFERENCIA DE PAGO No.840007175, OPERACIÓN CCIAL HOTEL SINDAMANOY - TURNARIÑO LTDA, | I20: Compromiso presupuestal | J20: 2021001610 | K20: 2,844,280.00 | L20: 0.00
A21: 2.1.2.02.02.006.008.01.2 | C21: 44556 | D21: Obligacion presupuestal | E21: 2021590264 | F21: CENTRALES ELECTRICAS DE NARINO S.A. E.S.P | G21: 891200200 | H21: REGISTRO DE FACTURA NO. 35746140 CODIGO INTERNO CE-1071403 PERIODO DEL 05 DE DICIEMBRE A 05 DE ENERO DE 2022, REFERENCIA DE PAGO No.83592590, OPERACIÓN CCIAL HOTEL SINDAMANOY - TURNARIÑO LTDA, | I21: Compromiso presupuestal | J21: 2021001610 | K21: 3,955,300.00 | L21: 0.00
J22: SUMAS | K22: 9532670 | L22: 0.00
A24: ENERGIA ENERO A MARZO 2022
A25: Cuenta | B25: Fuente | C25: Fecha | D25: Comprobante | E25: Numero | F25: Tercero | G25: Identificacion | H25: Detalle | I25: Doc Afectado | J25: Numero | K25: Credito | L25: Contra Credito
A26: 2.4.5.02.06.008 | C26: 44592 | D26: Obligacion presupuestal | E26: 2022590009 | F26: CENTRALES ELECTRICAS DE NARINO S.A. E.S.P | G26: 891200200 | H26: REGISTRO DE FACTURA NO. 36340692 CODIGO INTERNO CE-1071403 PERIODO DEL 07 DE ENERO A 06 DE FEBRERO DE 2022, REFERENCIA DE PAGO No.85349271, OPERACIÓN CCIAL HOTEL SINDAMANOY - TURNARIÑO LTDA | I26: Compromiso presupuestal | J26: 2022000012 | K26: 3,441,750.00 | L26: 0.00
A27: 2.4.5.02.06.008 | C27: 44624 | D27: Obligacion presupuestal | E27: 2022590040 | F27: CENTRALES ELECTRICAS DE NARINO S.A. E.S.P | G27: 891200200 | H27: REGISTRO DE FACTURA NO. 37040452 CODIGO INTERNO CE-1071403 PERIODO DEL 07 DE FEBRERO A 06 DE MARZO DE 2022, REFERENCIA DE PAGO No.85349271, OPERACIÓN CCIAL HOTEL SINDAMANOY - TURNARIÑO LTDA | I27: Compromiso presupuestal | J27: 2022000012 | K27: 3,156,500.00 | L27: 0.00
A28: 2.4.5.02.06.008 | C28: 44651 | D28: Obligacion presupuestal | E28: 2022590057 | F28: CENTRALES ELECTRICAS DE NARINO S.A. E.S.P | G28: 891200200 | H28: REGISTRO DE FACTURA NO. 37723803 CODIGO INTERNO CE-1071403 PERIODO DEL 07 DE MARZO A 07 DE ABRIL DE 2022, REFERENCIA DE PAGO NO.86664486, OPERACIÓN CCIAL HOTEL SINDAMANOY - TURNARIÑO LTDA | I28: Compromiso presupuestal | J28: 2022000012 | K28: 2,500,300.00 | L28: 0.00
J29: SUMAS | K29: 10399073 | L29: 0.00
B31: OCTUBRE A DICIEMBRE | D31: =K8+K22 -> 19829970
B32: ENERO A MARZO | D32: =K14+K29 -> 19996573
A34: MORASURCO
A35: ACUEDUCTO Y ALCANTARILLADO OCTUBRE A DICIEMBRE 2021
A36: Cuenta | B36: Fuente | C36: Fecha | D36: Comprobante | E36: Numero | F36: Tercero | G36: Identificacion | H36: Detalle | I36: Doc Afectado | J36: Numero | K36: Credito | L36: Contra Credito
A37: 2.1.2.02.02.006.005.01.1 | C37: 44476 | D37: Obligacion presupuestal | E37: 2021101179 | F37: EMPRESA DE OBRAS SANITARIAS DE PASTO EMPOPASTO S.A. E.S.P. | G37: 891200686 | H37: REGISTRO FAC.20484410 SERVICIO DE ACUEDUCTO Y ALCANTARILLADO DEL MES DE OCTUBRE PERIODO 02 DE OCTUBRE DE 2021 A 01 DE OCTUBRE DE 2021, CODIGO 2607 - OPERACION COMERCIAL HOTEL MORASURCO - TURNARINO LTDA | I37: Compromiso presupuestal | J37: 2021000377 | K37: 6,500,830.00 | L37: 0.00
A38: 2.1.2.02.02.006.005.01.1 | C38: 44530 | D38: Obligacion presupuestal | E38: 2021101656 | F38: EMPRESA DE OBRAS SANITARIAS DE PASTO EMPOPASTO S.A. E.S.P. | G38: 891200686 | H38: REGISTRO FAC.20685021 SERVICIO DE ACUEDUCTO Y ALCANTARILLADO DEL MES DE NOVIEMBRE PERIODO 02 DE NOVIEMBRE DE 2021 A 01 DE DICIEMBRE DE 2021, CODIGO 2607 - OPERACION COMERCIAL HOTEL MORASURCO - TURNARINO LTDA | I38: Compromiso presupuestal | J38: 2021000377 | K38: 6,443,520.00 | L38: 0.00
A39: 2.1.2.02.02.006.005.01.1 | C39: 44561 | D39: Obligacion presupuestal | E39: 2021101996 | F39: EMPRESA DE OBRAS SANITARIAS DE PASTO EMPOPASTO S.A. E.S.P. | G39: 891200686 | H39: REGISTRO FAC. 20785503 DEL MES DE DICIEMBRE, SERVICIO DE AGUA MES DE DICIEMBRE DE 2021, CODIGO 2607 - OPERACION HOTEL MORASURCO - TURNARINO LTDA | I39: Compromiso presupuestal | J39: 2021000377 | K39: 3,430,300.00 | L39: 0.00
J40: SUMAS | K40: 16374650 | L40: 0.00
A42: ASEO OCTUBRE A DICIEMBRE 2021 MORASURCO Y SINDAMANOY
A43: Cuenta | B43: Fuente | C43: Fecha | D43: Comprobante | E43: Numero | F43: Tercero | G43: Identificacion | H43: Detalle | I43: Doc Afectado | J43: Numero | K43: Credito | L43: Contra Credito
A44: 2.1.2.02.02.008.007.01.1 | C44: 44476 | D44: Obligacion presupuestal | E44: 2021101180 | F44: EMPRESA METROPOLITANA DE ASEO DE PASTO S A ESP | G44: 814000704 | H44: REGISTRO FAC. 14331567 DEL MES DE OCTUBRE, SERVICIO DE ASEO MES DE OCTUBRE DE 2021, CODIGO 2607 - OPERACION HOTEL MORASURCO - TURNARINO LTDA | I44: Compromiso presupuestal | J44: 2021000017 | K44: 419,100.00 | L44: 0.00
...

Sheet ABRIL- JUNIO 
A1: Promotora de turismo de Nariño Ltda
A2: NIT 891.200.373 - 3
A3: EJECUCION DE GASTOS
A4: Periodo: Abril a Junio de 2022
A5: Fecha de Impresion: 2022-7-15
D6: Modificaciones | K6: Disponibilidades | M6: Compromisos | O6: Obligaciones
A7: Codigo | B7: Nombre | C7: Apropiacion Inicial | D7: Adiciones | E7: Reducciones | F7: Creditos | G7: Contra Creditos | H7: Apropiacion Def | I7: Aplazam | J7: Desaplazam | K7: Totales | L7: Sin Afectacion | M7: Totales | N7: Sin Afectacion | O7: Totales | P7: Sin Afectacion | Q7: Pagos | R7: Saldo Disponible | S7: Tipo
A8: 2 | B8: Gastos | C8: 1.1052077e+10 | D8: 133000000 | E8: 0 | F8: 30000 | G8: 30000 | H8: 1.1185077e+10 | I8: 0 | J8: 0 | K8: 7.817394e+08 | L8: -5.2324443e+08 | M8: 1.3049838e+09 | N8: -1.2885106e+08 | O8: 1.4338349e+09 | P8: -1.9629411e+08 | Q8: 1.630129e+09 | R8: 1.0403338e+10 | S8: Titulo
A9: 2.1 | B9: Funcionamiento | C9: 2.4204335e+09 | D9: 0 | E9: 0 | F9: 20000 | G9: 20000 | H9: 2.4204335e+09 | I9: 0 | J9: 0 | K9: 2.2684711e+08 | L9: -35559608 | M9: 2.6240672e+08 | N9: -11958215 | O9: 2.7436493e+08 | P9: 80148583 | Q9: 1.9421635e+08 | R9: 2.1935864e+09 | S9: Titulo
A10: 2.1.1 | B10: Gastos de personal | C10: 6.0322238e+08 | D10: 0 | E10: 0 | F10: 0 | G10: 0 | H10: 6.0322238e+08 | I10: 0 | J10: 0 | K10: 140675020 | L10: 0 | M10: 140675020 | N10: 0 | O10: 140675020 | P10: 29609205 | Q10: 111065815 | R10: 4.6254736e+08 | S10: Titulo
A11: 2.1.1.01 | B11: Planta de personal permanente | C11: 6.0322238e+08 | D11: 0 | E11: 0 | F11: 0 | G11: 0 | H11: 6.0322238e+08 | I11: 0 | J11: 0 | K11: 140675020 | L11: 0 | M11: 140675020 | N11: 0 | O11: 140675020 | P11: 29609205 | Q11: 111065815 | R11: 4.6254736e+08 | S11: Titulo
A12: 2.1.1.01.01 | B12: Factores constitutivos de salario | C12: 4.8244627e+08 | D12: 0 | E12: 0 | F12: 0 | G12: 0 | H12: 4.8244627e+08 | I12: 0 | J12: 0 | K12: 126992376 | L12: 0 | M12: 126992376 | N12: 0 | O12: 126992376 | P12: 36919873 | Q12: 90072503 | R12: 3.554539e+08 | S12: Titulo
A13: 2.1.1.01.01.001 | B13: Factores salariales comunes | C13: 4.8244627e+08 | D13: 0 | E13: 0 | F13: 0 | G13: 0 | H13: 4.8244627e+08 | I13: 0 | J13: 0 | K13: 126992376 | L13: 0 | M13: 126992376 | N13: 0 | O13: 126992376 | P13: 36919873 | Q13: 90072503 | R13: 3.554539e+08 | S13: Titulo
A14: 2.1.1.01.01.001.01 | B14: Sueldo básico | C14: 3.9174831e+08 | D14: 0 | E14: 0 | F14: 0 | G14: 0 | H14: 3.9174831e+08 | I14: 0 | J14: 0 | K14: 108416995 | L14: 0 | M14: 108416995 | N14: 0 | O14: 108416995 | P14: 35516551 | Q14: 72900444 | R14: 2.8333132e+08 | S14: Detalle
A15: 2.1.1.01.01.001.02 | B15: Horas extras, dominicales, festivos y recargos | C15: 12005465 | D15: 0 | E15: 0 | F15: 0 | G15: 0 | H15: 12005465 | I15: 0 | J15: 0 | K15: 2102654 | L15: 0 | M15: 2102654 | N15: 0 | O15: 2102654 | P15: 529823 | Q15: 1572831 | R15: 9902810.8 | S15: Detalle
A16: 2.1.1.01.01.001.05 | B16: Auxilio de transporte | C16: 7030320 | D16: 0 | E16: 0 | F16: 0 | G16: 0 | H16: 7030320 | I16: 0 | J16: 0 | K16: 2343439 | L16: 0 | M16: 2343439 | N16: 0 | O16: 2343439 | P16: 734277 | Q16: 1609162 | R16: 4686881 | S16: Detalle
A17: 2.1.1.01.01.001.06 | B17: Prima de servicio | C17: 20277722 | D17: 0 | E17: 0 | F17: 0 | G17: 0 | H17: 20277722 | I17: 0 | J17: 0 | K17: 12939507 | L17: 0 | M17: 12939507 | N17: 0 | O17: 12939507 | P17: 0 | Q17: 12939507 | R17: 7338215.2 | S17: Detalle
A18: 2.1.1.01.01.001.08 | B18: Prestaciones sociales | C18: 51384454 | D18: 0 | E18: 0 | F18: 0 | G18: 0 | H18: 51384454 | I18: 0 | J18: 0 | K18: 1189781 | L18: 0 | M18: 1189781 | N18: 0 | O18: 1189781 | P18: 139222 | Q18: 1050559 | R18: 50194672 | S18: Titulo
A19: 2.1.1.01.01.001.08.01 | B19: Prima de navidad | C19: 33258159 | D19: 0 | E19: 0 | F19: 0 | G19: 0 | H19: 33258159 | I19: 0 | J19: 0 | K19: 0 | L19: 0 | M19: 0 | N19: 0 | O19: 0 | P19: 0 | Q19: 0 | R19: 33258159 | S19: Detalle
... A187: 2.4.5.02.08.021 | B187: OTROS GASTOS POR ADQUISICIÒN DE SERVICIOS H SINDAMANOY - VIGENCIA 2021 | C187: 1970000 | D187: 0 | E187: 0 | F187: 0 | G187: 0 | H187: 1970000 | I187: 0 | J187: 0 | K187: 0 | L187: 0 | M187: 0 | N187: -896025.21 | O187: 896025.21 | P187: 129436.97 | Q187: 766588.24 | R187: 1970000 | S187: Detalle

Sheet ABRIL- JUN 2022
B1: INFORME AUSTERIDAD DEL GASTO
A3: ENERGIA | B3: ABRIL A MAYO 2022 - MORASURCO
B4: Cuenta | C4: Fuente | D4: Fecha | E4: Comprobante | F4: Numero | G4: Tercero | H4: Identificacion | I4: Detalle | J4: Doc Afectado | K4: Numero | L4: Credito
B5: 2.4.5.02.06.007 | D5: 44651 | E5: Obligacion presupuestal | F5: 2022100314 | G5: CENTRALES ELECTRICAS DE NARINO S.A. E.S.P | H5: 891200200 | I5: SERVICIO DE ENERGIA ELECTRICA, HOTEL MORASURCO PARA OPERACION CCIAL TURNARIÑO LTDA VIGENCIA 2022 | J5: Compromiso presupuestal | K5: 2022000012 | L5: 3,467,660.00
B6: 2.4.5.02.06.007 | D6: 44687 | E6: Obligacion presupuestal | F6: 2022100438 | G6: CENTRALES ELECTRICAS DE NARINO S.A. E.S.P | H6: 891200200 | I6: REGISTRO DE FACTURA NO.38707855 CODIGO INTERNO CE-215954 PERIODO DEL 23 DE MARZO A 22 DE ABRIL DE 2022, REFERENCIA DE PAGO NO.87585171 PARA OPERACIÓN CCIAL HOTEL MORASURCO DE PROPIEDAD DE TURNARIÑO LTDA, | J6: Compromiso presupuestal | K6: 2022000012 | L6: 3,045,360.00
B7: 2.4.5.02.06.007 | D7: 44723 | E7: Obligacion presupuestal | F7: 2022100584 | G7: CENTRALES ELECTRICAS DE NARINO S.A. E.S.P | H7: 891200200 | I7: REGISTRO DE FACTURA NO.39339736 CODIGO INTERNO CE-215954 PERIODO DEL 22 DE ABRIL A 21 DE MAYO DE 2022, REFERENCIA DE PAGO NO.88308689 PARA OPERACIÓN CCIAL HOTEL MORASURCO DE PROPIEDAD DE TURNARIÑO LTDA | J7: Compromiso presupuestal | K7: 2022000012 | L7: 3,491,160.00
K8: SUMAS | L8: =3467660+3045360+3491160 -> 10004180
B9: ABRIL A MAYO 2022 - SINDAMANOY
B10: Cuenta | C10: Fuente | D10: Fecha | E10: Comprobante | F10: Numero | G10: Tercero | H10: Identificacion | I10: Detalle | J10: Doc Afectado | K10: Numero | L10: Credito
B11: 2.4.5.02.06.008 | D11: 44624 | E11: Obligacion presupuestal | F11: 2022590040 | G11: CENTRALES ELECTRICAS DE NARINO S.A. E.S.P | H11: 891200200 | I11: REGISTRO DE FACTURA NO. 37040452 CODIGO INTERNO CE-1071403 PERIODO DEL 07 DE FEBRERO A 06 DE MARZO DE 2022, REFERENCIA DE PAGO No.85349271, OPERACIÓN CCIAL HOTEL SINDAMANOY - TURNARIÑO LTDA | J11: Compromiso presupuestal | K11: 2022000012 | L11: 3,156,500.00
B12: 2.4.5.02.06.008 | D12: 44651 | E12: Obligacion presupuestal | F12: 2022590057 | G12: CENTRALES ELECTRICAS DE NARINO S.A. E.S.P | H12: 891200200 | I12: REGISTRO DE FACTURA NO. 37723803 CODIGO INTERNO CE-1071403 PERIODO DEL 07 DE MARZO A 07 DE ABRIL DE 2022, REFERENCIA DE PAGO NO.86664486, OPERACIÓN CCIAL HOTEL SINDAMANOY - TURNARIÑO LTDA | J12: Compromiso presupuestal | K12: 2022000012 | L12: 2,500,300.00
B13: 2.4.5.02.06.008 | D13: 44687 | E13: Obligacion presupuestal | F13: 2022590087 | G13: CENTRALES ELECTRICAS DE NARINO S.A. E.S.P | H13: 891200200 | I13: REGISTRO DE FACTURA NO. 38354578, CODIGO INTERNO CE-1071403 PERIODO DEL 08 DE ABRIL A 09 DEMAYO DE 2022, REFERENCIA DE PAGO NO.86664486, OPERACIÓN CCIAL HOTEL SINDAMANOY - TURNARIÑO LTDA | J13: Compromiso presupuestal | K13: 2022000012 | L13: 1,936,920.00
K14: SUMAS | L14: =3156500+2500300+1936920 -> 7593720
K16: TOTAL | L16: =+L8+L14 -> 17597900
A18: ACUEDUCTO | B18: ABRIL A MAYO 2022 - MORASURCO
B19: Cuenta | C19: Fuente | D19: Fecha | E19: Comprobante | F19: Numero | G19: Tercero | H19: Identificacion | I19: Detalle | J19: Doc Afectado | K19: Numero | L19: Credito
B20: 2.4.5.02.06.005 | D20: 44651 | E20: Obligacion presupuestal | F20: 2022100315 | G20: EMPRESA DE OBRAS SANITARIAS DE PASTO EMPOPASTO S.A. E.S.P. | H20: 891200686 | I20: REGISTRO FAC. 21089229 DEL MES DE MARZO DE 2022, SERVICIO DE SUMINISTRO AGUA PERIODO 03 DE MARZO DE 2022-01 DE ABRIL DE 2022, CODIGO 2607 - OPERACION HOTEL MORASURCO - TURNARINO LTDA | J20: Compromiso presupuestal | K20: 2022000011 | L20: 1,875,470.00
B21: 2.4.5.02.06.005 | D21: 44690 | E21: Obligacion presupuestal | F21: 2022100446 | G21: EMPRESA DE OBRAS SANITARIAS DE PASTO EMPOPASTO S.A. E.S.P. | H21: 891200686 | I21: REGISTRO FAC. 21190838 DEL MES DE ABRIL DE 2022, SERVICIO DE SUMINISTRO AGUA PERIODO 02 DE ABRIL DE 2022-02 DE MAYO DE 2022, CODIGO 2607 - OPERACION HOTEL MORASURCO - TURNARINO LTDA | J21: Compromiso presupuestal | K21: 2022000011 | L21: 1,950,960.00
B22: 2.4.5.02.06.005 | D22: 44720 | E22: Obligacion presupuestal | F22: 2022100573 | G22: EMPRESA DE OBRAS SANITARIAS DE PASTO EMPOPASTO S.A. E.S.P. | H22: 891200686 | I22: REGISTRO FAC. 21292524 DEL MES DE MAYO DE 2022, SERVICIO DE SUMINISTRO AGUA PERIODO 03 DE MAYO DE 2022-01 DE JUNIO DE 2022, CODIGO 2607 - OPERACION HOTEL MORASURCO - TURNARINO LTDA | J22: Compromiso presupuestal | K22: 2022000011 | L22: 1,825,140.00
K23: SUMAS | L23: =1875470+1950960+1825140 -> 5651570
K26: TOTAL | L26: =+L23 -> 5651570
A28: TELEFONOS E INTERNET | B28: ABRIL A MAYO 2022 - MORASURCO
B29: Cuenta | C29: Fuente | D29: Fecha | E29: Comprobante | F29: Numero | G29: Tercero | H29: Identificacion | I29: Detalle | J29: Doc Afectado | K29: Numero | L29: Credito
B30: 2.4.5.02.08.008 | D30: 44647 | E30: Obligacion presupuestal | F30: 2022100285 | G30: COLOMBIA TELECOMUNICACIONES S.A. E.S.P. | H30: 830122566 | I30: REGISTRO FACTURA N0. EC - 249426559 POR CONCEPTO TELEFONIA MOVIL 3128279082, 3128277797 Y 3176582550, PERIODO 27 DE MARZO A 26 DE ABRIL DE 2022, REFERENCIA PARA PAGOS 43200001 - OPERACION COMERCIAL HOTEL MORASURCO | J30: Compromiso presupuestal | K30: 2022000010 | L30: 57866
B31: 2.4.5.02.08.008 | D31: 44653 | E31: Obligacion presupuestal | F31: 2022100323 | G31: COLOMBIA TELECOMUNICACIONES S.A. E.S.P. | H31: 830122566 | I31: REGISTRO FAC. NO.R 971772815 CORRESPONDIENTE A SERVICIOS TELEFONIA E INTERNET CORRESPONDIENTE AL MES DE ABRIL DE 2022, PERIODO ABRIL01 A ABRIL 30 DE 2022, REF. PARA PAGO 41761038 - OPERACION COMERCIAL HOTEL MORASURCO - PROMOTORA DE TURISMO DE NARINO | J31: Compromiso presupuestal | K31: 2022000010 | L31: 213356
B32: 2.4.5.02.08.008 | D32: 44664 | E32: Obligacion presupuestal | F32: 2022100336 | G32: COLOMBIA TELECOMUNICACIONES S.A. E.S.P. | H32: 830122566 | I32: REGISTRO FACTURA N0. EC - 249489537 POR CONCEPTO TELEFONIA MOVIL 3156531121 PERIODO 13 DE FEBRERO DE 2022 A 12 DE MAYO DE 2022, REFERENCIA PARA PAGOS 10214494 - OPERACION COMERCIAL HOTEL MORASURCO | J32: Compromiso presupuestal | K32: 2022000010 | L32: 48008
B33: 2.4.5.02.08.008 | D33: 44678 | E33: Obligacion presupuestal | F33: 2022100378 | G33: COLOMBIA TELECOMUNICACIONES S.A. E.S.P. | H33: 830122566 | I33: REGISTRO FACTURA N0. EC - 249546395 POR CONCEPTO TELEFONIA MOVIL 3128279082, 3128277797 Y 3176582550, PERIODO 27 DE ABRIL A 26 DE MAYO DE 2022, REFERENCIA PARA PAGOS 43200001 - OPERACION COMERCIAL HOTEL MORASURCO | J33: Compromiso presupuestal | K33: 2022000010 | L33: 49866
B34: 2.4.5.02.08.008 | D34: 44686 | E34: Obligacion presupuestal | F34: 2022100439 | G34: COLOMBIA TELECOMUNICACIONES S.A. E.S.P. | H34: 830122566 | I34: REGISTRO FAC NO. BEC-222794787, SERVICIO DE INTERNET CORRESPONDIENTE DEL 02 DE ABRIL AL 01 DE MAYO DE 2022, REF. DE PAGO NO.25941580271 - OPERACION COMERCIAL HOTEL MORASURCO | J34: Compromiso presupuestal | K34: 2022000010 | L34: 206030
B35: 2.4.5.02.08.008 | D35: 44686 | E35: Obligacion presupuestal | F35: 2022100440 | G35: COLOMBIA TELECOMUNICACIONES S.A. E.S.P. | H35: 830122566 | I35: REGISTRO FAC NO.5808-00000030791772, SERVICIO DE INTERNET CORRESPONDIENTE AL MES DE ABRIL 01 DE 2022 A ABRIL 30 DE 2022, PERIDODO ABRIL, REF. DE PAGO NO.181162110 - OPERACION COMERCIAL HOTEL MORASURCO | J35: Compromiso presupuestal | K35: 2022000010 | L35: 160500
B36: 2.4.5.02.08.008 | D36: 44697 | E36: Obligacion presupuestal | F36: 2022100462 | G36: COLOMBIA TELECOMUNICACIONES S.A. E.S.P. | H36: 830122566 | I36: REGISTRO FACTURA N0. EC - 249604419 POR CONCEPTO TELEFONIA MOVIL 3156531121 PERIODO 13 DE MAYO DE 2022 A 12 DE JUNIO DE 2022, REFERENCIA PARA PAGOS 10214494 - OPERACION COMERCIAL HOTEL MORASURCO | J36: Compromiso presupuestal | K36: 2022000010 | L36: 24932.97
B37: 2.4.5.02.08.008 | D37: 44708 | E37: Obligacion presupuestal | F37: 2022100502 | G37: COLOMBIA TELECOMUNICACIONES S.A. E.S.P. | H37: 830122566 | I37: REGISTRO FACTURA N0. EC - 249668434 POR CONCEPTO TELEFONIA MOVIL 3128279082, 3128277797 Y 3176582550, PERIODO 27 DE MAYO A 26 DE JUNIO DE 2022, REFERENCIA PARA PAGOS 43200001 - OPERACION COMERCIAL HOTEL MORASURCO | J37: Compromiso presupuestal | K37: 2022000010 | L37: 49866
B38: 2.4.5.02.08.008 | D38: 44713 | E38: Obligacion presupuestal | F38: 2022100567 | G38: COLOMBIA TELECOMUNICACIONES S.A. E.S.P. | H38: 830122566 | I38: SERVICIOS DE TELEFONIA FIJA, CELULAR E INTERNET AÑO 2022 OPERACIÓN CCIAL HOTEL MORASURCO Y HOTEL SINDAMANOY | J38: Compromiso presupuestal | K38: 2022000010 | L38: 212406
B39: 2.4.5.02.08.008 | D39: 44714 | E39: Obligacion presupuestal | F39: 2022100569 | G39: COLOMBIA TELECOMUNICACIONES S.A. E.S.P. | H39: 830122566 | I39: REGISTRO FAC NO.5808-00000030810755, SERVICIO DE INTERNET CORRESPONDIENTE AL MES DE MAYO 01 DE 2022 A MAYO 31 DE 2022, PERIDODO MAYO, REF. DE PAGO NO.181162110 - OPERACION COMERCIAL HOTEL MORASURCO | J39: Compromiso presupuestal | K39: 2022000010 | L39: 160500
B40: 2.4.5.02.08.008 | D40: 44720 | E40: Obligacion presupuestal | F40: 2022100578 | G40: COLOMBIA TELECOMUNICACIONES S.A. E.S.P. | H40: 830122566 | I40: REGISTRO FAC NO. BEC-228472423, SERVICIO DE INTERNET CORRESPONDIENTE DEL 02 DE MAYO AL 01 DE JUNIO DE 2022, REF. DE PAGO NO.25941580271 - OPERACION COMERCIAL HOTEL MORASURCO | J40: Compromiso presupuestal | K40: 2022000010 | L40: 204194.09
B41: 2.4.5.02.08.008 | D41: 44725 | E41: Obligacion presupuestal | F41: 2022100592 | G41: COLOMBIA TELECOMUNICACIONES S.A. E.S.P. | H41: 830122566 | I41: REGISTRO FACTURA N0. EC - 249731168 POR CONCEPTO TELEFONIA MOVIL 3156531121 PERIODO 13 DE JUNIO DE 2022 A 12 DE JULIO DE 2022, REFERENCIA PARA PAGOS 10214494 - OPERACION COMERCIAL HOTEL MORASURCO | J41: Compromiso presupuestal | K41: 2022000010 | L41: 24932.97
... B47: 2.4.5.02.08.009 | D47: 44740 | E47: Obligacion presupuestal | F47: 2022590121 | G47: SISTEMAS, TELECOMUNICACIONES Y BIOMEDICOS DE COLOMBIA SAS | H47: 901028579 | I47: REGISTRO FAC. NO.A-629 POR CONCEPTO DE SERVICIOS DE INTERNET CORRESPONDE AL MES DE JUNIO DE 2022 - OPERACION HOTEL SINDAMANOY - TURNARINO LTDA | J47: Compromiso presupuestal | K47: 2022000184 | L47: 168067
K48: SUMAS | L48: =SUM(L30:L47) -> 1995483
B49: ABRIL A MAYO 2022 - SINDAMANOY
B50: Cuenta | C50: Fuente | D50: Fecha | E50: Comprobante | F50: Numero | G50: Tercero | H50: Identificacion | I50: Detalle | J50: Doc Afectado | K50: Numero | L50: Credito
B51: 2.4.5.02.08.009 | D51: 44647 | E51: Obligacion presupuestal | F51: 2022590056 | G51: COLOMBIA TELECOMUNICACIONES S.A. E.S.P. | H51: 830122566 | I51: SERVICIOS DE TELEFONIA FIJA, CELULAR E INTERNET AÑO 2022 OPERACIÓN CCIAL HOTEL MORASURCO Y HOTEL SINDAMANOY | J51: Compromiso presupuestal | K51: 2022000010 | L51: 28933
...

Sheet JULIO - SEPT
A1: Promotora de turismo de Nariño Ltda
A2: NIT 891.200.373 - 3
A3: EJECUCION DE GASTOS
A4: Periodo: Julio a Septiembre de 2022
A5: Fecha de Impresion: 2022-10-7
D6: Modificaciones | K6: Disponibilidades | M6: Compromisos | O6: Obligaciones
A7: Codigo | B7: Nombre | C7: Apropiacion Inicial | D7: Adiciones | E7: Reducciones | F7: Creditos | G7: Contra Creditos | H7: Apropiacion Def | I7: Aplazam | J7: Desaplazam | K7: Totales | L7: Sin Afectacion | M7: Totales | N7: Sin Afectacion | O7: Totales | P7: Sin Afectacion | Q7: Pagos | R7: Saldo Disponible | S7: Tipo
A8: 2 | B8: Gastos | C8: 1.1052077e+10 | D8: 4961522970 | E8: 0 | F8: 1177705784 | G8: 1177705784 | H8: 1.60136e+10 | I8: 0 | J8: 0 | K8: 5.2796225e+09 | L8: 2.9096691e+09 | M8: 2.3699534e+09 | N8: 9.5928062e+08 | O8: 1.4106728e+09 | P8: -1.7770535e+08 | Q8: 1.5883781e+09 | R8: 1.0733977e+10 | S8: Titulo
A9: 2.1 | B9: Funcionamiento | C9: 2.4204335e+09 | D9: 0 | E9: 0 | F9: 32582815 | G9: 32582815 | H9: 2.4204335e+09 | I9: 0 | J9: 0 | K9: 2.6287239e+08 | L9: -56798247 | M9: 3.1967063e+08 | N9: 35255017 | O9: 284415617 | P9: 31395912 | Q9: 2.5301971e+08 | R9: 2.1575611e+09 | S9: Titulo
A10: 2.1.1 | B10: Gastos de personal | C10: 6.0322238e+08 | D10: 0 | E10: 0 | F10: 0 | G10: 0 | H10: 6.0322238e+08 | I10: 0 | J10: 0 | K10: 130926926 | L10: -21775247 | M10: 152702173 | N10: 0 | O10: 152702173 | P10: 868956 | Q10: 151833217 | R10: 4.7229545e+08 | S10: Titulo
A11: 2.1.1.01 | B11: Planta de personal permanente | C11: 6.0322238e+08 | D11: 0 | E11: 0 | F11: 0 | G11: 0 | H11: 6.0322238e+08 | I11: 0 | J11: 0 | K11: 130926926 | L11: -21775247 | M11: 152702173 | N11: 0 | O11: 152702173 | P11: 868956 | Q11: 151833217 | R11: 4.7229545e+08 | S11: Titulo
A12: 2.1.1.01.01 | B12: Factores constitutivos de salario | C12: 4.8244627e+08 | D12: 0 | E12: 0 | F12: 0 | G12: 0 | H12: 4.8244627e+08 | I12: 0 | J12: 0 | K12: 117982287 | L12: -10224788 | M12: 128207075 | N12: 0 | O12: 128207075 | P12: 4204333 | Q12: 124002742 | R12: 3.6446398e+08 | S12: Titulo
A13: 2.1.1.01.01.001 | B13: Factores salariales comunes | C13: 4.8244627e+08 | D13: 0 | E13: 0 | F13: 0 | G13: 0 | H13: 4.8244627e+08 | I13: 0 | J13: 0 | K13: 117982287 | L13: -10224788 | M13: 128207075 | N13: 0 | O13: 128207075 | P13: 4204333 | Q13: 124002742 | R13: 3.6446398e+08 | S13: Titulo
A14: 2.1.1.01.01.001.01 | B14: Sueldo básico | C14: 3.9174831e+08 | D14: 0 | E14: 0 | F14: 0 | G14: 0 | H14: 3.9174831e+08 | I14: 0 | J14: 0 | K14: 111379106 | L14: 0 | M14: 111379106 | N14: 0 | O14: 111379106 | P14: 1850167 | Q14: 109528939 | R14: 2.8036921e+08 | S14: Detalle
A15: 2.1.1.01.01.001.02 | B15: Horas extras, dominicales, festivos y recargos | C15: 12005465 | D15: 0 | E15: 0 | F15: 0 | G15: 0 | H15: 12005465 | I15: 0 | J15: 0 | K15: 1932153 | L15: 0 | M15: 1932153 | N15: 0 | O15: 1932153 | P15: 47892 | Q15: 1884261 | R15: 10073312 | S15: Detalle
A16: 2.1.1.01.01.001.05 | B16: Auxilio de transporte | C16: 7030320 | D16: 0 | E16: 0 | F16: 0 | G16: 0 | H16: 7030320 | I16: 0 | J16: 0 | K16: 2402026 | L16: 0 | M16: 2402026 | N16: 0 | O16: 2402026 | P16: 199193 | Q16: 2202833 | R16: 4628294 | S16: Detalle
A17: 2.1.1.01.01.001.06 | B17: Prima de servicio | C17: 20277722 | D17: 0 | E17: 0 | F17: 0 | G17: 0 | H17: 20277722 | I17: 0 | J17: 0 | K17: 287103 | L17: 0 | M17: 287103 | N17: 0 | O17: 287103 | P17: 180925 | Q17: 106178 | R17: 19990619 | S17: Detalle
A18: 2.1.1.01.01.001.08 | B18: Prestaciones sociales | C18: 51384454 | D18: 0 | E18: 0 | F18: 0 | G18: 0 | H18: 51384454 | I18: 0 | J18: 0 | K18: 1981899 | L18: -10224788 | M18: 12206687 | N18: 0 | O18: 12206687 | P18: 1926156 | Q18: 10280531 | R18: 49402554 | S18: Titulo
A19: 2.1.1.01.01.001.08.01 | B19: Prima de navidad | C19: 33258159 | D19: 0 | E19: 0 | F19: 0 | G19: 0 | H19: 33258159 | I19: 0 | J19: 0 | K19: 1320599 | L19: -7373976 | M19: 8694575 | N19: 0 | O19: 8694575 | P19: 1336480 | Q19: 7358095 | R19: 31937560 | S19: Detalle
... A197: 2.4.5.02.08.021 | B197: OTROS GASTOS POR ADQUISICIÒN DE SERVICIOS H SINDAMANOY - VIGENCIA 2021 | C197: 1970000 | D197: 0 | E197: 0 | F197: 0 | G197: 0 | H197: 1970000 | I197: 0 | J197: 0 | K197: 0 | L197: 0 | M197: 0 | N197: 0 | O197: 0 | P197: -158000 | Q197: 158000 | R197: 1970000 | S197: Detalle

Sheet JULIO - SEPT 2022
B1: INFORME AUSTERIDAD DEL GASTO
A3: ENERGIA | B3: AGOSTO A SEPTIEMBRE 2022 - MORASURCO
B4: Cuenta | C4: Fuente | D4: Fecha | E4: Comprobante | F4: Numero | G4: Tercero | H4: Identificacion | I4: Detalle | J4: Doc Afectado | K4: Numero | L4: Credito
B5: 2.4.5.02.06.007 | D5: 44750 | E5: Obligacion presupuestal | F5: 2022100663 | G5: CENTRALES ELECTRICAS DE NARINO S.A. E.S.P | H5: 891200200 | I5: REGISTRO DE FACTURA NO.39789307 CODIGO INTERNO CE-215954 PERIODO DEL 21 DE MAYO A 21 DE JUNIO DE 2022, REFERENCIA DE PAGO NO.88870873 PARA OPERACIÓN CCIAL HOTEL MORASURCO DE PROPIEDAD DE TURNARIÑO LTDA | J5: Compromiso presupuestal | K5: 2022000012 | L5: 3544840
B6: 2.4.5.02.06.007 | D6: 44775 | E6: Obligacion presupuestal | F6: 2022100775 | G6: CENTRALES ELECTRICAS DE NARINO S.A. E.S.P | H6: 891200200 | I6: REGISTRO DE FACTURA NO.40412187 CODIGO INTERNO CE-215954 PERIODO DEL 21 DE JUNIO A 22 DE JULIO DE 2022, REFERENCIA DE PAGO NO.89489846 PARA OPERACIÓN CCIAL HOTEL MORASURCO DE PROPIEDAD DE TURNARIÑO LTDA | J6: Compromiso presupuestal | K6: 2022000012 | L6: 3804400
B7: 2.4.5.02.06.007 | D7: 44813 | E7: Obligacion presupuestal | F7: 2022100996 | G7: CENTRALES ELECTRICAS DE NARINO S.A. E.S.P | H7: 891200200 | I7: REGISTRO DE FACTURA NO.41141041 CODIGO INTERNO CE-215954 PERIODO DEL 22 DE JULIO A 23 DE AGOSTO DE 2022, REFERENCIA DE PAGO NO.90287490 PARA OPERACIÓN CCIAL HOTEL MORASURCO DE PROPIEDAD DE TURNARIÑO LTDA | J7: Compromiso presupuestal | K7: 2022000012 | L7: 4190230
L8: =SUM(L5:L7) -> 11539470
B10: AGOSTO A SEPTIEMBRE 2022 SINDAMANOY
B11: Cuenta | C11: Fuente | D11: Fecha | E11: Comprobante | F11: Numero | G11: Tercero | H11: Identificacion | I11: Detalle | J11: Doc Afectado | K11: Numero | L11: Credito
B12: 2.4.5.02.06.008 | D12: 44743 | E12: Obligacion presupuestal | F12: 2022590127 | G12: CENTRALES ELECTRICAS DE NARINO S.A. E.S.P | H12: 891200200 | I12: REGISTRO DE FACTURA NO.39519117 CODIGO INTERNO CE-1071483 PERIODO DEL 07 DE JUNIO A 06 DE JULIO DE 2022, REFERENCIA DE PAGO NO.80540544 PARA OPERACIÓN CCIAL HOTEL SINDAMANOY DE PROPIEDAD DE TURNARIÑO LTDA. | J12: Compromiso presupuestal | K12: 2022000012 | L12: 2610730
B13: 2.4.5.02.06.008 | D13: 44775 | E13: Obligacion presupuestal | F13: 2022590152 | G13: CENTRALES ELECTRICAS DE NARINO S.A. E.S.P | H13: 891200200 | I13: REGISTRO DE FACTURA NO.40109719 CODIGO INTERNO CE-1071483 PERIODO DEL 07 DE JULIO A 05 DE AGOSTO DE 2022, REFERENCIA DE PAGO NO.80540544 PARA OPERACIÓN CCIAL HOTEL SINDAMANOY DE PROPIEDAD DE TURNARIÑO LTDA. | J13: Compromiso presupuestal | K13: 2022000012 | L13: 3019460
B14: 2.4.5.02.06.008 | D14: 44806 | E14: Obligacion presupuestal | F14: 2022590189 | G14: CENTRALES ELECTRICAS DE NARINO S.A. E.S.P | H14: 891200200 | I14: REGISTRO DE FACTURA NO.40795343 CODIGO INTERNO CE-1071483 PERIODO DEL 05 DE AGOSTO A 07 DE SEPTIEMBRE DE 2022, REFERENCIA DE PAGO NO.80540544 PARA OPERACIÓN CCIAL HOTEL SINDAMANOY DE PROPIEDAD DE TURNARIÑO LTDA. | J14: Compromiso presupuestal | K14: 2022000012 | L14: 4341090
L15: =SUM(L12:L14) -> 9971280
K17: TOTAL | L17: =+L8+L15 -> 21510750
A18: ACUEDUCTO | B18: JULIO A SEPTIEMBRE 2022 MORASURCO
B19: Cuenta | C19: Fuente | D19: Fecha | E19: Comprobante | F19: Numero | G19: Tercero | H19: Identificacion | I19: Detalle | J19: Doc Afectado | K19: Numero | L19: Credito
B20: Cuenta | C20: Fuente | D20: Fecha | E20: Comprobante | F20: Numero | G20: Tercero | H20: Identificacion | I20: Detalle | J20: Doc Afectado | K20: Numero | L20: Credito
B21: 2.4.5.02.06.005 | D21: 44750 | E21: Obligacion presupuestal | F21: 2022100668 | G21: EMPRESA DE OBRAS SANITARIAS DE PASTO EMPOPASTO S.A. E.S.P. | H21: 891200686 | I21: REGISTRO FAC. 21394481 DEL MES DE JUNIO DE 2022, SERVICIO DE SUMINISTRO AGUA PERIODO 02 DE JUNIO DE 2022-01 DE JULIO DE 2022, CODIGO 2607 - OPERACION HOTEL MORASURCO - TURNARINO LTDA | J21: Compromiso presupuestal | K21: 2022000011 | L21: 2159090
B22: 2.4.5.02.06.005 | D22: 44781 | E22: Obligacion presupuestal | F22: 2022100784 | G22: EMPRESA DE OBRAS SANITARIAS DE PASTO EMPOPASTO S.A. E.S.P. | H22: 891200686 | I22: REGISTRO FAC. 21496753 DEL MES DE JUNIO DE 2022, SERVICIO DE SUMINISTRO AGUA PERIODO 02 DE JULIO DE 2022-01 DE AGOSTO DE 2022, CODIGO 2607 - OPERACION HOTEL MORASURCO - TURNARINO LTDA | J22: Compromiso presupuestal | K22: 2022000011 | L22: 2204460
B23: 2.4.5.02.06.005 | D23: 44813 | E23: Obligacion presupuestal | F23: 2022100994 | G23: EMPRESA DE OBRAS SANITARIAS DE PASTO EMPOPASTO S.A. E.S.P. | H23: 891200686 | I23: REGISTRO FAC. 21599294 DEL MES DE SEPTIEMBRE DE 2022, SERVICIO DE SUMINISTRO AGUA PERIODO 02 DE AGOSTO DE 2022-01 DE SEPTIEMBRE DE 2022, CODIGO 2607 - OPERACION HOTEL MORASURCO - TURNARINO LTDA | J23: Compromiso presupuestal | K23: 2022000011 | L23: 2275760
B24: SUMAS | L24: =SUM(L21:L23) -> 6639310
K25: SUMAS
A27: TELEFONOS E INTERNET | B27: JULIO A SEPTIEMBRE DE 2022 MORASURCO
B28: Cuenta | C28: Fuente | D28: Fecha | E28: Comprobante | F28: Numero | G28: Tercero | H28: Identificacion | I28: Detalle | J28: Doc Afectado | K28: Numero | L28: Credito
B29: 2.4.5.02.08.008 | D29: 44744 | E29: Obligacion presupuestal | F29: 2022100655 | G29: COLOMBIA TELECOMUNICACIONES S.A. E.S.P. | H29: 830122566 | I29: REGISTRO FAC NO. BEC-234394849, SERVICIO DE INTERNET CORRESPONDIENTE DEL 02 DE JUNIO AL 01 DE JULIO DE 2022, REF. DE PAGO NO.234394849 - OPERACION COMERCIAL HOTEL MORASURCO | J29: Compromiso presupuestal | K29: 2022000010 | L29: 205281.08
B30: 2.4.5.02.08.008 | D30: 44744 | E30: Obligacion presupuestal | F30: 2022100656 | G30: COLOMBIA TELECOMUNICACIONES S.A. E.S.P. | H30: 830122566 | I30: SERVICIOS DE TELEFONIA FIJA, CELULAR E INTERNET AÑO 2022 OPERACIÓN CCIAL HOTEL MORASURCO Y HOTEL SINDAMANOY | J30: Compromiso presupuestal | K30: 2022000010 | L30: 212881
B31: 2.4.5.02.08.008 | D31: 44744 | E31: Obligacion presupuestal | F31: 2022100659 | G31: COLOMBIA TELECOMUNICACIONES S.A. E.S.P. | H31: 830122566 | I31: REGISTRO FAC NO.5808-00000030825240, SERVICIO DE INTERNET CORRESPONDIENTE AL MES DE JUNIO 01 DE 2022 A JUNIO 30 DE 2022, PERIDODO JUNIO, REF. DE PAGO NO.181162110 - OPERACION COMERCIAL HOTEL MORASURCO | J31: Compromiso presupuestal | K31: 2022000010 | L31: 160500
B32: 2.4.5.02.08.008 | D32: 44750 | E32: Obligacion presupuestal | F32: 2022100669 | G32: COLOMBIA TELECOMUNICACIONES S.A. E.S.P. | H32: 830122566 | I32: REGISTRO FACTURA N0. EC - 249805173 POR CONCEPTO TELEFONIA MOVIL 3128279082, 3128277797 Y 3176582550, PERIODO 27 DE JUNIO A 26 DE JULIO DE 2022, REFERENCIA PARA PAGOS 43200001 - OPERACION COMERCIAL HOTEL MORASURCO | J32: Compromiso presupuestal | K32: 2022000010 | L32: 74820.92
B33: 2.4.5.02.08.008 | D33: 44755 | E33: Obligacion presupuestal | F33: 2022100674 | G33: COLOMBIA TELECOMUNICACIONES S.A. E.S.P. | H33: 830122566 | I33: REGISTRO FACTURA N0. EC - 249861210 POR CONCEPTO TELEFONIA MOVIL 3156531121 PERIODO 13 DE JULIO DE 2022 A 25 DE JULIO DE 2022, REFERENCIA PARA PAGOS 10214494 - OPERACION COMERCIAL HOTEL MORASURCO | J33: Compromiso presupuestal | K33: 2022000010 | L33: 24932.97
B34: 2.4.5.02.08.008 | D34: 44769 | E34: Obligacion presupuestal | F34: 2022100737 | G34: COLOMBIA TELECOMUNICACIONES S.A. E.S.P. | H34: 830122566 | I34: REGISTRO FACTURA N0. EC - 249925602 POR CONCEPTO TELEFONIA MOVIL 3128279082, 3128277797 Y 3176582550, PERIODO 27 DE JULIO A 26 DE AGOSTO DE 2022, REFERENCIA PARA PAGOS 43200001 - OPERACION COMERCIAL HOTEL MORASURCO | J34: Compromiso presupuestal | K34: 2022000010 | L34: 74918.92
B35: 2.4.5.02.08.008 | D35: 44775 | E35: Obligacion presupuestal | F35: 2022100772 | G35: COLOMBIA TELECOMUNICACIONES S.A. E.S.P. | H35: 830122566 | I35: REGISTRO FAC NO.5808-00000030842290, SERVICIO DE INTERNET CORRESPONDIENTE AL MES DE JULIO 01 DE 2022 A JULIO 31 DE 2022, PERIDODO JULIO, REF. DE PAGO NO.181162110 - OPERACION COMERCIAL HOTEL MORASURCO | J35: Compromiso presupuestal | K35: 2022000010 | L35: 160500
B36: 2.4.5.02.08.008 | D36: 44775 | E36: Obligacion presupuestal | F36: 2022100773 | G36: COLOMBIA TELECOMUNICACIONES S.A. E.S.P. | H36: 830122566 | I36: REGISTRO FAC NO. BEC-240214564, SERVICIO DE INTERNET CORRESPONDIENTE DEL 02 DE JULIO AL 01 DE AGOSTO DE 2022, REF. DE PAGO NO.25941580271 - OPERACION COMERCIAL HOTEL MORASURCO | J36: Compromiso presupuestal | K36: 2022000010 | L36: 203640.92
B37: 2.4.5.02.08.008 | D37: 44775 | E37: Obligacion presupuestal | F37: 2022100774 | G37: COLOMBIA TELECOMUNICACIONES S.A. E.S.P. | H37: 830122566 | I37: SERVICIOS DE TELEFONIA FIJA, CELULAR E INTERNET AÑO 2022 OPERACIÓN CCIAL HOTEL MORASURCO Y HOTEL SINDAMANOY | J37: Compromiso presupuestal | K37: 2022000010 | L37: 253402
B38: 2.4.5.02.08.008 | D38: 44786 | E38: Obligacion presupuestal | F38: 2022100791 | G38: COLOMBIA TELECOMUNICACIONES S.A. E.S.P. | H38: 830122566 | I38: SERVICIOS DE TELEFONIA FIJA, CELULAR E INTERNET AÑO 2022 OPERACIÓN CCIAL HOTEL MORASURCO Y HOTEL SINDAMANOY | J38: Compromiso presupuestal | K38: 2022000010 | L38: 24937.02
B39: 2.4.5.02.08.008 | D39: 44800 | E39: Obligacion presupuestal | F39: 2022100844 | G39: COLOMBIA TELECOMUNICACIONES S.A. E.S.P. | H39: 830122566 | I39: REGISTRO FACTURA N0. EC - 250038789 POR CONCEPTO TELEFONIA MOVIL 3128279082, 3128277797 Y 3176582550, PERIODO 27 DE JULIO A 26 DESEPTIEMBRE DE 2022, REFERENCIA PARA PAGOS 43200001 - OPERACION COMERCIAL HOTEL MORASURCO | J39: Compromiso presupuestal | K39: 2022000010 | L39: 73998.91
B40: 2.4.5.02.08.008 | D40: 44806 | E40: Obligacion presupuestal | F40: 2022100972 | G40: COLOMBIA TELECOMUNICACIONES S.A. E.S.P. | H40: 830122566 | I40: SERVICIOS DE TELEFONIA FIJA, CELULAR E INTERNET AÑO 2022 OPERACIÓN CCIAL HOTEL MORASURCO Y HOTEL SINDAMANOY | J40: Compromiso presupuestal | K40: 2022000010 | L40: 212811
... B44: 2.4.5.02.08.008 | D44: 44834 | E44: Obligacion presupuestal | F44: 2022101155 | G44: COLOMBIA TELECOMUNICACIONES S.A. E.S.P. | H44: 830122566 | I44: EGISTRO FACTURA N0. EC - 250170220 POR CONCEPTO TELEFONIA MOVIL 3128279082, 3128277797 Y 3176582550, PERIODO 27 DE SEPTIEMBRE A 26 DE OCTUBRE DE 2022, REFERENCIA PARA PAGOS 43200001 - OPERACION COMERCIAL HOTEL MORASURCO | J44: Compromiso presupuestal | K44: 2022000010 | L44: 74799
B47: JULIO A SEPTIEMBRE DE 2022 SINDAMANOY | K47: SUMAS | L47: =SUM(L29:L44) -> 1970942.7
B48: Cuenta | C48: Fuente | D48: Fecha | E48: Comprobante | F48: Numero | G48: Tercero | H48: Identificacion | I48: Detalle | J48: Doc Afectado | K48: Numero | L48: Credito
B49: Cuenta | C49: Fuente | D49: Fecha | E49: Comprobante | F49: Numero | G49: Tercero | H49: Identificacion | I49: Detalle | J49: Doc Afectado | K49: Numero | L49: Credito
...

Sheet OCTUBRE -  DICIEMBRE  2022 
B1: INFORME AUSTERIDAD DEL GASTO
A2: ENERGIA | B2: OTUBRE- DICIEMBRE 2022 ENERGIA HOTEL MORASURCO
B3: Cuenta | C3: Fuente | D3: Fecha | E3: Comprobante | F3: Numero | G3: Tercero | H3: Identificacion | I3: Detalle | J3: Doc Afectado | K3: Numero | L3: Credito
B4: 2.4.5.02.06.007 | D4: 44842 | E4: Obligacion presupuestal | F4: 2022101251 | G4: CENTRALES ELECTRICAS DE NARINO S.A. E.S.P | H4: 891200200 | I4: REGISTRO DE FACTURA NO.41787421 CODIGO INTERNO CE-215954 PERIODO DEL 23 DE AGOSTO A 22 DESEPTIEMBRE DE 2022, REFERENCIA DE PAGO NO.90952366 PARA OPERACIÓN CCIAL HOTEL MORASURCO DE PROPIEDAD DE TURNARIÑO LTDA | J4: Compromiso presupuestal | K4: 2022000012 | L4: 4085650
B5: 2.4.5.02.06.007 | D5: 44870 | E5: Obligacion presupuestal | F5: 2022101621 | G5: CENTRALES ELECTRICAS DE NARINO S.A. E.S.P | H5: 891200200 | I5: REGISTRO DE FACTURA NO.42328397 CODIGO INTERNO CE-215954 PERIODO DEL 22 DE SEPTIEMBRE A 22 DE OCTUBRE DE 2022, REFERENCIA DE PAGO NO.90287490 PARA OPERACIÓN CCIAL HOTEL MORASURCO DE PROPIEDAD DE TURNARIÑO LTDA, | J5: Compromiso presupuestal | K5: 2022000012 | L5: 4749660
B6: 2.4.5.02.06.007 | D6: 44904 | E6: Obligacion presupuestal | F6: 2022102030 | G6: CENTRALES ELECTRICAS DE NARINO S.A. E.S.P | H6: 891200200 | I6: REGISTRO DE FACTURA NO.42864371 CODIGO INTERNO CE-215954 PERIODO DEL 23 DE OCTUBRE A 22 DE NOVIEMBRE DE 2022, REFERENCIA DE PAGO NO.92187509 PARA OPERACIÓN CCIAL HOTEL MORASURCO DE PROPIEDAD DE TURNARIÑO LTDA | J6: Compromiso presupuestal | K6: 2022002150 | L6: 60590
B7: 2.4.5.02.06.007 | D7: 44904 | E7: Obligacion presupuestal | F7: 2022102030 | G7: CENTRALES ELECTRICAS DE NARINO S.A. E.S.P | H7: 891200200 | I7: REGISTRO DE FACTURA NO.42864371 CODIGO INTERNO CE-215954 PERIODO DEL 23 DE OCTUBRE A 22 DE NOVIEMBRE DE 2022, REFERENCIA DE PAGO NO.92187509 PARA OPERACIÓN CCIAL HOTEL MORASURCO DE PROPIEDAD DE TURNARIÑO LTDA | J7: Compromiso presupuestal | K7: 2022000012 | L7: 4757200
B8: 2.4.5.02.06.007 | D8: 44926 | E8: Obligacion presupuestal | F8: 2022102745 | G8: CENTRALES ELECTRICAS DE NARINO S.A. E.S.P | H8: 891200200 | I8: REGISTRO DE FACTURA NO.43665541 CODIGO INTERNO CE-215954 PERIODO DEL 22 DE NOVIEMBRE A 22 DE DICIEMBRE DE 2022, REFERENCIA DE PAGO NO.92873013 PARA OPERACIÓN CCIAL HOTEL MORASURCO DE PROPIEDAD DE TURNARIÑO LTDA, | J8: Compromiso presupuestal | K8: 2022002492 | L8: 496351
B9: 2.4.5.02.06.007 | D9: 44926 | E9: Obligacion presupuestal | F9: 2022102745 | G9: CENTRALES ELECTRICAS DE NARINO S.A. E.S.P | H9: 891200200 | I9: REGISTRO DE FACTURA NO.43665541 CODIGO INTERNO CE-215954 PERIODO DEL 22 DE NOVIEMBRE A 22 DE DICIEMBRE DE 2022, REFERENCIA DE PAGO NO.92873013 PARA OPERACIÓN CCIAL HOTEL MORASURCO DE PROPIEDAD DE TURNARIÑO LTDA, | J9: Compromiso presupuestal | K9: 2022002150 | L9: 4634518.7
B10: 2.4.5.02.06.007 | D10: 44873 | E10: Obligacion presupuestal | F10: 2022590248 | G10: CENTRALES ELECTRICAS DE NARINO S.A. E.S.P | H10: 891200200 | I10: REGISTRO DE FACTURA NO.42039581, CODIGO INTERNO CE-1071403 PERIODO DEL 07 DE OCTUBRE A 07 DE NOVIEMBRE DE 2022, REFERENCIA DE PAGO NO.91252769 PARA OPERACIÓN CCIAL HOTEL SINDAMANOY DE PROPIEDAD DE TURNARIÑO LTDA. | J10: Compromiso presupuestal | K10: 2022000012 | L10: 734000
B11: 2.4.5.02.06.007 | D11: 44898 | E11: Obligacion presupuestal | F11: 2022590275 | G11: CENTRALES ELECTRICAS DE NARINO S.A. E.S.P | H11: 891200200 | I11: REGISTRO DE FACTURA NO.42603178, CODIGO INTERNO CE-1071403 PERIODO DEL 07 DE NOVIEMBRE A 07 DE DICIEMBRE DE 2022, REFERENCIA DE PAGO NO.91252769 PARA OPERACIÓN CCIAL HOTEL SINDAMANOY DE PROPIEDAD DE TURNARIÑO LTDA. | J11: Compromiso presupuestal | K11: 2022002150 | L11: 1934450
B12: ENERGIA HOTEL SINDAMANOY | L12: =SUM(L4:L11) -> 21452420
B13: Cuenta | C13: Fuente | D13: Fecha | E13: Comprobante | F13: Numero | G13: Tercero | H13: Identificacion | I13: Detalle | J13: Doc Afectado | K13: Numero | L13: Credito
B14: 2.4.5.02.06.008 | D14: 44835 | E14: Obligacion presupuestal | F14: 2022590204 | G14: CENTRALES ELECTRICAS DE NARINO S.A. E.S.P | H14: 891200200 | I14: REGISTRO DE FACTURA NO.41413260 CODIGO INTERNO CE-1071403 PERIODO DEL 07 DE SEPTIEMB RE A 06 DE OCTUBRE DE 2022, REFERENCIA DE PAGO NO.90620290 PARA OPERACIÓN CCIAL HOTEL SINDAMANOY DE PROPIEDAD DE TURNARIÑO LTDA. | J14: Compromiso presupuestal | K14: 2022000012 | L14: 2292700
B15: 2.4.5.02.06.008 | D15: 44873 | E15: Obligacion presupuestal | F15: 2022590248 | G15: CENTRALES ELECTRICAS DE NARINO S.A. E.S.P | H15: 891200200 | I15: REGISTRO DE FACTURA NO.42039581, CODIGO INTERNO CE-1071403 PERIODO DEL 07 DE OCTUBRE A 07 DE NOVIEMBRE DE 2022, REFERENCIA DE PAGO NO.91252769 PARA OPERACIÓN CCIAL HOTEL SINDAMANOY DE PROPIEDAD DE TURNARIÑO LTDA. | J15: Compromiso presupuestal | K15: 2022000012 | L15: 2425500
B16: 2.4.5.02.06.008 | D16: 44898 | E16: Obligacion presupuestal | F16: 2022590275 | G16: CENTRALES ELECTRICAS DE NARINO S.A. E.S.P | H16: 891200200 | I16: REGISTRO DE FACTURA NO.42603178, CODIGO INTERNO CE-1071403 PERIODO DEL 07 DE NOVIEMBRE A 07 DE DICIEMBRE DE 2022, REFERENCIA DE PAGO NO.91252769 PARA OPERACIÓN CCIAL HOTEL SINDAMANOY DE PROPIEDAD DE TURNARIÑO LTDA. | J16: Compromiso presupuestal | K16: 2022002150 | L16: 1302140
B17: 2.4.5.02.06.008 | D17: 44926 | E17: Obligacion presupuestal | F17: 2022590305 | G17: CENTRALES ELECTRICAS DE NARINO S.A. E.S.P | H17: 891200200 | I17: REGISTRO DE FACTURA NO.43236063, CODIGO INTERNO CE-1071403 PERIODO DEL 07 DE DICIEMBRE A 07 DE ENERO DE 2023, REFERENCIA DE PAGO NO.91252769 PARA OPERACIÓN CCIAL HOTEL SINDAMANOY DE PROPIEDAD DE TURNARIÑO LTDA. | J17: Compromiso presupuestal | K17: 2022002492 | L17: 3333250
B18: ACUEDUCTO HOTEL MORASURCO | K18: SUMAS | L18: 9353590
K19: TOTAL | L19: =+L12+L18 -> 30806010
A20: ACUEDUCTO | B20: Cuenta | C20: Fuente | D20: Fecha | E20: Comprobante | F20: Numero | G20: Tercero | H20: Identificacion | I20: Detalle | J20: Doc Afectado | K20: Numero | L20: Credito
B21: 2.4.5.02.06.005 | D21: 44844 | E21: Obligacion presupuestal | F21: 2022101257 | G21: EMPRESA DE OBRAS SANITARIAS DE PASTO EMPOPASTO S.A. E.S.P. | H21: 891200686 | I21: REGISTRO FAC. 21701956 DEL MES DE OCTUBRE DE 2022, SERVICIO DE SUMINISTRO AGUA PERIODO 02 DE SEPTIEMBRE DE 2022-01 DE OCTUBRE DE 2022, CODIGO 2607 - OPERACION HOTEL MORASURCO - TURNARINO LTDA | J21: Compromiso presupuestal | K21: 2022000011 | L21: 2664650
B22: 2.4.5.02.06.005 | D22: 44870 | E22: Obligacion presupuestal | F22: 2022101618 | G22: EMPRESA DE OBRAS SANITARIAS DE PASTO EMPOPASTO S.A. E.S.P. | H22: 891200686 | I22: REGISTRO FAC. 21804682 DEL MES DE NOVIEMBRE DE 2022, SERVICIO DE SUMINISTRO AGUA PERIODO 02 DE OCTUBRE DE 2022-01 DE NOVIEMBRE DE 2022, CODIGO 2607 - OPERACION HOTEL MORASURCO - TURNARINO LTDA, | J22: Compromiso presupuestal | K22: 2022000011 | L22: 2074580
B23: 2.4.5.02.06.005 | D23: 44904 | E23: Obligacion presupuestal | F23: 2022102025 | G23: EMPRESA DE OBRAS SANITARIAS DE PASTO EMPOPASTO S.A. E.S.P. | H23: 891200686 | I23: REGISTRO FAC. 21907594 DEL MES DE DICIEMBRE DE 2022, SERVICIO DE SUMINISTRO AGUA PERIODO 02 DE NOVIEMBRE DE 2022-01 DE DICIEMBRE DE 2022, CODIGO 2607 - OPERACION HOTEL MORASURCO - TURNARINO LTDA, | J23: Compromiso presupuestal | K23: 2022000011 | L23: 3185070
B24: 2.4.5.02.06.005 | D24: 44926 | E24: Obligacion presupuestal | F24: 2022102746 | G24: EMPRESA DE OBRAS SANITARIAS DE PASTO EMPOPASTO S.A. E.S.P. | H24: 891200686 | I24: REGISTRO FAC. 22010599 DEL MES DE DICIEMBRE DE 2022, SERVICIO DE SUMINISTRO AGUA PERIODO 02 DE DICIEMBRE DE 2022-02 DE ENERO DE 2022, CODIGO 2607 - OPERACION HOTEL MORASURCO - TURNARINO LTDA, | J24: Compromiso presupuestal | K24: 2022000011 | L24: 3353300
B25: CELULARES E INTERNET HOTEL MORASURCO | L25: =SUM(L21:L24) -> 11277600
A26: LINEAS CELULARES TELEFONO E INTERNET | B26: Cuenta | C26: Fuente | D26: Fecha | E26: Comprobante | F26: Numero | G26: Tercero | H26: Identificacion | I26: Detalle | J26: Doc Afectado | K26: Numero | L26: Credito
B27: 2.4.5.02.08.008 | D27: 44870 | E27: Obligacion presupuestal | F27: 2022101613 | G27: COLOMBIA TELECOMUNICACIONES S.A. E.S.P. | H27: 830122566 | I27: SERVICIOS DE TELEFONIA FIJA, CELULAR E INTERNET AÑO 2022 OPERACIÓN CCIAL HOTEL MORASURCO Y HOTEL SINDAMANOY | J27: Compromiso presupuestal | K27: 2022000010 | L27: 90480
B28: 2.4.5.02.08.008 | D28: 44870 | E28: Obligacion presupuestal | F28: 2022101661 | G28: COLOMBIA TELECOMUNICACIONES S.A. E.S.P. | H28: 830122566 | I28: REGISTRO FAC NO.5808-00000030895860, SERVICIO DE INTERNET CORRESPONDIENTE AL MES DE OCTUBRE 01 DE 2022 A OCTUBRE 31 DE 2022, PERIDODO SEPTIEMBRE, REF. DE PAGO NO.181162110 - OPERACION COMERCIAL HOTEL MORASURCO | J28: Compromiso presupuestal | K28: 2022000010 | L28: 414935
B29: 2.4.5.02.08.008 | D29: 44878 | E29: Obligacion presupuestal | F29: 2022101681 | G29: COLOMBIA TELECOMUNICACIONES S.A. E.S.P. | H29: 830122566 | I29: REGISTRO FACTURA N0. EC - 250337034 POR CONCEPTO TELEFONIA MOVIL 3156531121 PERIODO 13 DE NOVIEMBRE DE 2022 A 12 DE DICIEMBRE DE 2022, REFERENCIA PARA PAGOS 10214494 - OPERACION COMERCIAL HOTEL MORASURCO | J29: Compromiso presupuestal | K29: 2022000010 | L29: 71188
B30: 2.4.5.02.08.008 | D30: 44893 | E30: Obligacion presupuestal | F30: 2022101858 | G30: COLOMBIA TELECOMUNICACIONES S.A. E.S.P. | H30: 830122566 | I30: REGISTRO FACTURA N0. EC - 250400204 POR CONCEPTO TELEFONIA MOVIL 3128279082, 3128277797 Y 3176582550, PERIODO 27 DE NOVIEMBRE A 26 DE DICIEMBRE DE 2022, REFERENCIA PARA PAGOS 43200001 - OPERACION COMERCIAL HOTEL MORASURCO | J30: Compromiso presupuestal | K30: 2022000010 | L30: 89941
B31: 2.4.5.02.08.008 | D31: 44898 | E31: Obligacion presupuestal | F31: 2022101989 | G31: COLOMBIA TELECOMUNICACIONES S.A. E.S.P. | H31: 830122566 | I31: SERVICIOS DE TELEFONIA FIJA, CELULAR E INTERNET AÑO 2022 OPERACIÓN CCIAL HOTEL MORASURCO Y HOTEL SINDAMANOY | J31: Compromiso presupuestal | K31: 2022000010 | L31: 100558
B32: 2.4.5.02.08.008 | D32: 44908 | E32: Obligacion presupuestal | F32: 2022102031 | G32: COLOMBIA TELECOMUNICACIONES S.A. E.S.P. | H32: 830122566 | I32: REGISTRO FACTURA N0. EC - 250454141 POR CONCEPTO TELEFONIA MOVIL 3156531121 PERIODO 13 DE DICIEMBRE DE 2022 A 12 DE ENERO DE 2022, REFERENCIA PARA PAGOS 10214494 - OPERACION COMERCIAL HOTEL MORASURCO | J32: Compromiso presupuestal | K32: 2022000010 | L32: 30847
B33: CELULARES E INTERNET HOTEL SINDAMANOY | L33: =SUM(L27:L32) -> 797949
B35: Cuenta | C35: Fuente | D35: Fecha | E35: Comprobante | F35: Numero | G35: Tercero | H35: Identificacion | I35: Detalle | J35: Doc Afectado | K35: Numero | L35: Credito
B36: 2.4.5.02.08.009 | D36: 44887 | E36: Obligacion presupuestal | F36: 2022590251 | G36: SISTEMAS, TELECOMUNICACIONES Y BIOMEDICOS DE COLOMBIA SAS | H36: 901028579 | I36: REGISTRO FAC. NO.A-800 POR CONCEPTO DE SERVICIOS DE INTERNET CORRESPONDE AL MES DE NOVIEMBRE DE 2022 - OPERACION HOTEL SINDAMANOY - TURNARINO LTDA | J36: Compromiso presupuestal | K36: 2022000184 | L36: 168067
B37: 2.4.5.02.08.009 | D37: 44887 | E37: Obligacion presupuestal | F37: 2022590252 | G37: SISTEMAS, TELECOMUNICACIONES Y BIOMEDICOS DE COLOMBIA SAS | H37: 901028579 | I37: REGISTRO FAC. NO.A-767 POR CONCEPTO DE SERVICIOS DE INTERNET CORRESPONDE AL MES DE OCTUBRE DE 2022 - OPERACION HOTEL SINDAMANOY - TURNARINO LTDA | J37: Compromiso presupuestal | K37: 2022000184 | L37: 168067
L38: =SUM(L36:L37) -> 336134
B40: T,.V CABLE HOTEL SINDAMANOY
B41: Cuenta | C41: Fuente | D41: Fecha | E41: Comprobante | F41: Numero | G41: Tercero | H41: Identificacion | I41: Detalle | J41: Doc Afectado | K41: Numero | L41: Credito
